BEGIN:VCALENDAR
VERSION:2.0
PRODID:-//Tukios.com/
BEGIN:VEVENT
UID:5a8a5cea-e73c-4f17-8382-809f6f9dc1e7@www.unityfuneralhome.net
DTSTAMP:20260421T215954Z
DTSTART:20260425T160000Z
DTEND:20260425T170000Z
SUMMARY:Funeral Service
DESCRIPTION:
URL:https://www.unityfuneralhome.net/obituaries/terry-thomas
LOCATION: 401 Hollon Street  Headland AL 36345
GEO:31.3534414;-85.3351408
END:VEVENT
END:VCALENDAR