BEGIN:VCALENDAR
VERSION:2.0
PRODID:-//Tukios.com/
BEGIN:VEVENT
UID:2880a415-f779-4750-97fc-caf48a60843e@www.unityfuneralhome.net
DTSTAMP:20260421T215301Z
DTSTART:20260425
SUMMARY:Burial
DESCRIPTION:
URL:https://www.unityfuneralhome.net/obituaries/terry-thomas
LOCATION: 401 Hollon Street  Headland AL 36345
GEO:31.3534414;-85.3351408
END:VEVENT
END:VCALENDAR