BEGIN:VCALENDAR
VERSION:2.0
PRODID:-//Tukios.com/
BEGIN:VEVENT
UID:3b239736-726f-47fd-9c71-e174ff54fe22@www.unityfuneralhome.net
DTSTAMP:20260421T215541Z
DTSTART:20260424T220000Z
DTEND:20260425T000000Z
SUMMARY:Visitation
DESCRIPTION:
URL:https://www.unityfuneralhome.net/obituaries/terry-thomas
LOCATION: 1215 Leona St  Dothan AL 36303
GEO:31.2416151;-85.3959449
END:VEVENT
END:VCALENDAR